BEGIN:VCALENDAR
PRODID:-//eluceo/ical//2.0/EN
VERSION:2.0
CALSCALE:GREGORIAN
BEGIN:VEVENT
UID:7cd77a326952572f3747505ff5088404
DTSTAMP:20260420T112104Z
SUMMARY:Peter Berry\; ornitolog från Linköpings ornitologiska förening  
 besöker oss.
DESCRIPTION:
URL:https://borensberg.rotaryklubb.org/en/agenda/show/217791
DTSTART;TZID=Europe/Zurich:20260324T180000
DTEND;TZID=Europe/Zurich:20260324T200000
LOCATION:Göta Hotell\, Götagatan 2\, 59175 Borensberg\, Sverige
CATEGORIES:Rotary
END:VEVENT
BEGIN:VTIMEZONE
TZID:Europe/Zurich
BEGIN:STANDARD
DTSTART:20260324T180000
TZNAME:CET
TZOFFSETTO:+0100
TZOFFSETFROM:+0100
END:STANDARD
END:VTIMEZONE
END:VCALENDAR
